BEGIN:VCALENDAR
VERSION:2.0
PRODID:-//Mary D&#039;Orazi - ECPv6.15.1.1//NONSGML v1.0//EN
CALSCALE:GREGORIAN
METHOD:PUBLISH
X-WR-CALNAME:Mary D&#039;Orazi
X-ORIGINAL-URL:https://www.marydorazimusic.com
X-WR-CALDESC:Events for Mary D&#039;Orazi
REFRESH-INTERVAL;VALUE=DURATION:PT1H
X-Robots-Tag:noindex
X-PUBLISHED-TTL:PT1H
BEGIN:VTIMEZONE
TZID:America/Los_Angeles
BEGIN:DAYLIGHT
TZOFFSETFROM:-0800
TZOFFSETTO:-0700
TZNAME:PDT
DTSTART:20260308T100000
END:DAYLIGHT
BEGIN:STANDARD
TZOFFSETFROM:-0700
TZOFFSETTO:-0800
TZNAME:PST
DTSTART:20261101T090000
END:STANDARD
END:VTIMEZONE
BEGIN:VEVENT
DTSTART;TZID=America/Los_Angeles:20260131T190000
DTEND;TZID=America/Los_Angeles:20260131T210000
DTSTAMP:20260423T163025
CREATED:20260403T233206Z
LAST-MODIFIED:20260403T233206Z
UID:405-1769886000-1769893200@www.marydorazimusic.com
SUMMARY:Mary with Marcos Silva at Adega Azul
DESCRIPTION:Enjoy Brazilian samba and Bossa Nova music while sipping and savoring offerings from Adega Azul’s menu. Non-alcoholic and vegan options available. Reservations highly recommended. \n\nFree\nShare This!
URL:https://www.marydorazimusic.com/event/mary-with-marcos-silva-at-adega-azul-2/
LOCATION:Adega Azul\, 1287 Gilman St\, Berkeley\, CA\, 94706\, United States
END:VEVENT
BEGIN:VEVENT
DTSTART;TZID=America/Los_Angeles:20260426T150000
DTEND;TZID=America/Los_Angeles:20260426T170000
DTSTAMP:20260423T163025
CREATED:20260403T233506Z
LAST-MODIFIED:20260403T233506Z
UID:407-1777215600-1777222800@www.marydorazimusic.com
SUMMARY:Garden Party with Brasilhando - Private Event
DESCRIPTION:Share This!
URL:https://www.marydorazimusic.com/event/garden-party-with-brasilhando-private-event/
END:VEVENT
END:VCALENDAR