BEGIN:VCALENDAR
VERSION:2.0
PRODID:-//Mary D&#039;Orazi - ECPv6.15.1.1//NONSGML v1.0//EN
CALSCALE:GREGORIAN
METHOD:PUBLISH
X-WR-CALNAME:Mary D&#039;Orazi
X-ORIGINAL-URL:https://www.marydorazimusic.com
X-WR-CALDESC:Events for Mary D&#039;Orazi
REFRESH-INTERVAL;VALUE=DURATION:PT1H
X-Robots-Tag:noindex
X-PUBLISHED-TTL:PT1H
BEGIN:VTIMEZONE
TZID:America/Los_Angeles
BEGIN:DAYLIGHT
TZOFFSETFROM:-0800
TZOFFSETTO:-0700
TZNAME:PDT
DTSTART:20250309T100000
END:DAYLIGHT
BEGIN:STANDARD
TZOFFSETFROM:-0700
TZOFFSETTO:-0800
TZNAME:PST
DTSTART:20251102T090000
END:STANDARD
END:VTIMEZONE
BEGIN:VEVENT
DTSTART;TZID=America/Los_Angeles:20251108T190000
DTEND;TZID=America/Los_Angeles:20251108T210000
DTSTAMP:20260423T162229
CREATED:20251030T231133Z
LAST-MODIFIED:20251030T231133Z
UID:398-1762628400-1762635600@www.marydorazimusic.com
SUMMARY:Mary with Marcos Silva at Adega Azul
DESCRIPTION:Enjoy Brazilian samba and Bossa Nova music while sipping and savoring offerings from Adega Azul’s menu. Non-alcoholic and vegan options available. \nShare This!
URL:https://www.marydorazimusic.com/event/mary-with-marcos-silva-at-adega-azul/
LOCATION:Adega Azul\, 1287 Gilman St\, Berkeley\, CA\, 94706\, United States
END:VEVENT
END:VCALENDAR